BEGIN:VCALENDAR
VERSION:2.0
PRODID:-//Landmetzgerei Setzer - ECPv6.15.18//NONSGML v1.0//EN
CALSCALE:GREGORIAN
METHOD:PUBLISH
X-WR-CALNAME:Landmetzgerei Setzer
X-ORIGINAL-URL:https://www.landmetzgerei.de
X-WR-CALDESC:Veranstaltungen für Landmetzgerei Setzer
REFRESH-INTERVAL;VALUE=DURATION:PT1H
X-Robots-Tag:noindex
X-PUBLISHED-TTL:PT1H
BEGIN:VTIMEZONE
TZID:Europe/Berlin
BEGIN:DAYLIGHT
TZOFFSETFROM:+0100
TZOFFSETTO:+0200
TZNAME:CEST
DTSTART:20250330T010000
END:DAYLIGHT
BEGIN:STANDARD
TZOFFSETFROM:+0200
TZOFFSETTO:+0100
TZNAME:CET
DTSTART:20251026T010000
END:STANDARD
BEGIN:DAYLIGHT
TZOFFSETFROM:+0100
TZOFFSETTO:+0200
TZNAME:CEST
DTSTART:20260329T010000
END:DAYLIGHT
BEGIN:STANDARD
TZOFFSETFROM:+0200
TZOFFSETTO:+0100
TZNAME:CET
DTSTART:20261025T010000
END:STANDARD
BEGIN:DAYLIGHT
TZOFFSETFROM:+0100
TZOFFSETTO:+0200
TZNAME:CEST
DTSTART:20270328T010000
END:DAYLIGHT
BEGIN:STANDARD
TZOFFSETFROM:+0200
TZOFFSETTO:+0100
TZNAME:CET
DTSTART:20271031T010000
END:STANDARD
END:VTIMEZONE
BEGIN:VEVENT
DTSTART;TZID=Europe/Berlin:20260419T100000
DTEND;TZID=Europe/Berlin:20260419T150000
DTSTAMP:20260419T233124
CREATED:20250918T141159Z
LAST-MODIFIED:20260417T062958Z
UID:10003502-1776592800-1776610800@www.landmetzgerei.de
SUMMARY:Familienbuffet
DESCRIPTION:Setzers Special: Familienbuffet in Wolpertshausen\nJeden Sonntag von 10:00 bis 15:00 Uhr lädt die Landmetzgerei Setzer zum beliebten Familienbuffet in Wolpertshausen ein. Genießen Sie gemeinsam mit Familie und Freunden eine große Auswahl an frisch zubereiteten Spezialitäten in gemütlicher Atmosphäre. \nPreise für das Familienbuffet\n\n\nKinder ab 4 Jahren: 10\,90 € pro Person \n\n\nGäste ab 14 Jahren: 21\,90 € pro Person \n\n\nWarum das Familienbuffet bei Setzer so besonders ist\nDas Buffet bietet für jeden Geschmack das Richtige: deftige Fleisch- und Wurstspezialitäten\, saisonale Gerichte und feine Beilagen – alles nach traditioneller Metzgerkunst zubereitet. Ein perfekter Sonntag für Genießer und Familien. \nReservieren Sie Ihren Platz und erleben Sie Setzers Special – das Familienbuffet in Wolpertshausen\, jeden Sonntag von 10:00 bis 15:00 Uhr.
URL:https://www.landmetzgerei.de/event/familienbuffet/2026-04-19/
LOCATION:Landmetzgerei Setzer Wolpertshausen\, Birkichstraße 2\, Landmetzgerei Setzer GmbH\, Wolpertshausen\, 74549\, Germany
CATEGORIES:Wolpertshausen
ATTACH;FMTTYPE=image/webp:https://www.landmetzgerei.de/wp-content/uploads/2025/09/Setzer-2025-Familienbuffet@0.5x.webp
END:VEVENT
END:VCALENDAR